BEGIN:VCALENDAR
VERSION:2.0
PRODID:-//NLCC - ECPv6.15.0.1//NONSGML v1.0//EN
CALSCALE:GREGORIAN
METHOD:PUBLISH
X-WR-CALNAME:NLCC
X-ORIGINAL-URL:https://nlcc.com.au
X-WR-CALDESC:Events for NLCC
REFRESH-INTERVAL;VALUE=DURATION:PT1H
X-Robots-Tag:noindex
X-PUBLISHED-TTL:PT1H
BEGIN:VTIMEZONE
TZID:Australia/Adelaide
BEGIN:STANDARD
TZOFFSETFROM:+1030
TZOFFSETTO:+0930
TZNAME:ACST
DTSTART:20180331T163000
END:STANDARD
BEGIN:DAYLIGHT
TZOFFSETFROM:+0930
TZOFFSETTO:+1030
TZNAME:ACDT
DTSTART:20181006T163000
END:DAYLIGHT
END:VTIMEZONE
BEGIN:VEVENT
DTSTART;TZID=Australia/Adelaide:20180729T100000
DTEND;TZID=Australia/Adelaide:20180729T120000
DTSTAMP:20260426T075805
CREATED:20180624T084027Z
LAST-MODIFIED:20181011T113507Z
UID:793-1532858400-1532865600@nlcc.com.au
SUMMARY:Baptismal Service 29th July 2018
DESCRIPTION:Seize this opportunity – be among the first to be baptised in the New Sanctuary! If you believe that Jesus Christ is your Saviour and Lord\, then make your confession publicly\, in accordance to Scriptures (Matthew 10:32; Luke 12:8). \n“Whoever believes and is baptised will be saved!” (Mark 16:16a)
URL:https://nlcc.com.au/event/baptismal-service-29th-july-2018/
LOCATION:New Life Christian Community\, 33-37 O.G. Road\, Klemzig\, South Australia\, 5087\, Australia
CATEGORIES:Baptism Service
ATTACH;FMTTYPE=image/jpeg:https://nlcc.com.au/wp-content/uploads/2015/02/Jesus-Baptism.jpg
ORGANIZER;CN="New Life Christian Community":MAILTO:office@nlcc.com.au
END:VEVENT
END:VCALENDAR