BEGIN:VCALENDAR
VERSION:2.0
PRODID:-//NLCC - ECPv6.15.0.1//NONSGML v1.0//EN
CALSCALE:GREGORIAN
METHOD:PUBLISH
X-WR-CALNAME:NLCC
X-ORIGINAL-URL:https://nlcc.com.au
X-WR-CALDESC:Events for NLCC
REFRESH-INTERVAL;VALUE=DURATION:PT1H
X-Robots-Tag:noindex
X-PUBLISHED-TTL:PT1H
BEGIN:VTIMEZONE
TZID:Australia/Adelaide
BEGIN:STANDARD
TZOFFSETFROM:+1030
TZOFFSETTO:+0930
TZNAME:ACST
DTSTART:20180331T163000
END:STANDARD
BEGIN:DAYLIGHT
TZOFFSETFROM:+0930
TZOFFSETTO:+1030
TZNAME:ACDT
DTSTART:20181006T163000
END:DAYLIGHT
END:VTIMEZONE
BEGIN:VEVENT
DTSTART;TZID=Australia/Adelaide:20181201T110000
DTEND;TZID=Australia/Adelaide:20181201T140000
DTSTAMP:20260426T003509
CREATED:20181011T115216Z
LAST-MODIFIED:20181011T115351Z
UID:1552-1543662000-1543672800@nlcc.com.au
SUMMARY:NLCC Annual Christmas Picnic 2018
DESCRIPTION:NLCC Annual Christmas Picnic\, December 1st\, 2018 \nOpportunity to reach out to your friends and family to share life in Jesus! It is from 11.00am – 2.00pm at the Klemzig Recreation Reserve Playground. \nNLCC 年度圣诞节野餐 \n十二月一日，2018 \nKlemzig Recreation Reserve Playground \n很好的机会来邀请你的朋友和家人来在耶稣中分享生命
URL:https://nlcc.com.au/event/nlcc-annual-christmas-picnic-2018/
LOCATION:Klemzig Recreation Reserve Playground\, O G Rd & North East Road\, Klemzig\, South Australia\, 5087\, Australia
CATEGORIES:Christmas
ORGANIZER;CN="New Life Christian Community":MAILTO:office@nlcc.com.au
END:VEVENT
END:VCALENDAR