BEGIN:VCALENDAR
VERSION:2.0
PRODID:-//NLCC - ECPv6.15.0.1//NONSGML v1.0//EN
CALSCALE:GREGORIAN
METHOD:PUBLISH
X-WR-CALNAME:NLCC
X-ORIGINAL-URL:https://nlcc.com.au
X-WR-CALDESC:Events for NLCC
REFRESH-INTERVAL;VALUE=DURATION:PT1H
X-Robots-Tag:noindex
X-PUBLISHED-TTL:PT1H
BEGIN:VTIMEZONE
TZID:Australia/Adelaide
BEGIN:STANDARD
TZOFFSETFROM:+1030
TZOFFSETTO:+0930
TZNAME:ACST
DTSTART:20180331T163000
END:STANDARD
BEGIN:DAYLIGHT
TZOFFSETFROM:+0930
TZOFFSETTO:+1030
TZNAME:ACDT
DTSTART:20181006T163000
END:DAYLIGHT
END:VTIMEZONE
BEGIN:VEVENT
DTSTART;TZID=Australia/Adelaide:20181225T100000
DTEND;TZID=Australia/Adelaide:20181225T120000
DTSTAMP:20260426T003509
CREATED:20181206T112432Z
LAST-MODIFIED:20181206T112851Z
UID:1642-1545732000-1545739200@nlcc.com.au
SUMMARY:Christmas Day Combined Service 2018
DESCRIPTION:Christmas Day Combine Service \n圣诞节联合崇拜 \nTuesday 25th December\, 2018 at 10am \n十二月二十五日ǀ 早上十點 \nLight refreshments to follow. \n点心随后 \nAn offering will be collected on Christmas Day and will go towards supporting the poor\, hungry and persecuted through the Barnabas Fund & the Christian Fellowship of Pakistan. \n所有在圣诞节的奉献将通过巴拿巴基金和巴基斯坦的基督教组织用来帮助穷人和需要帮助的人
URL:https://nlcc.com.au/event/christmas-day-combined-service-2018/
LOCATION:New Life Christian Community\, 33-37 O.G. Road\, Klemzig\, South Australia\, 5087\, Australia
CATEGORIES:Christmas
ORGANIZER;CN="New Life Christian Community":MAILTO:office@nlcc.com.au
END:VEVENT
END:VCALENDAR