BEGIN:VCALENDAR
VERSION:2.0
PRODID:-//NLCC - ECPv6.15.0.1//NONSGML v1.0//EN
CALSCALE:GREGORIAN
METHOD:PUBLISH
X-WR-CALNAME:NLCC
X-ORIGINAL-URL:https://nlcc.com.au
X-WR-CALDESC:Events for NLCC
REFRESH-INTERVAL;VALUE=DURATION:PT1H
X-Robots-Tag:noindex
X-PUBLISHED-TTL:PT1H
BEGIN:VTIMEZONE
TZID:Australia/Adelaide
BEGIN:STANDARD
TZOFFSETFROM:+1030
TZOFFSETTO:+0930
TZNAME:ACST
DTSTART:20190406T163000
END:STANDARD
BEGIN:DAYLIGHT
TZOFFSETFROM:+0930
TZOFFSETTO:+1030
TZNAME:ACDT
DTSTART:20191005T163000
END:DAYLIGHT
END:VTIMEZONE
BEGIN:VEVENT
DTSTART;TZID=Australia/Adelaide:20190313T190000
DTEND;TZID=Australia/Adelaide:20190313T210000
DTSTAMP:20260425T200459
CREATED:20190306T124720Z
LAST-MODIFIED:20190306T125256Z
UID:1886-1552503600-1552510800@nlcc.com.au
SUMMARY:United Bible Society Public Meeting - The Church In China
DESCRIPTION:Q&A with Kua Wee Seng \nJoin Bible Society for an evening with international guest and director of the United Bible Societies China Partnership\, Kua Wee Seng. Together we’ll explore the answers to growing questions around the Christian Church in China. \nRSVP here: https://qaweesengsa.eventbrite.com.au
URL:https://nlcc.com.au/event/united-bible-society-public-meeting-the-church-in-china/
LOCATION:New Life Christian Community\, 33-37 O.G. Road\, Klemzig\, South Australia\, 5087\, Australia
CATEGORIES:Guest Speaker
ORGANIZER;CN="Bible Society":MAILTO:bibles@biblesociety.org.au
END:VEVENT
END:VCALENDAR