BEGIN:VCALENDAR
VERSION:2.0
PRODID:-//NLCC - ECPv6.15.0.1//NONSGML v1.0//EN
CALSCALE:GREGORIAN
METHOD:PUBLISH
X-WR-CALNAME:NLCC
X-ORIGINAL-URL:https://nlcc.com.au
X-WR-CALDESC:Events for NLCC
REFRESH-INTERVAL;VALUE=DURATION:PT1H
X-Robots-Tag:noindex
X-PUBLISHED-TTL:PT1H
BEGIN:VTIMEZONE
TZID:Australia/Adelaide
BEGIN:STANDARD
TZOFFSETFROM:+1030
TZOFFSETTO:+0930
TZNAME:ACST
DTSTART:20190406T163000
END:STANDARD
BEGIN:DAYLIGHT
TZOFFSETFROM:+0930
TZOFFSETTO:+1030
TZNAME:ACDT
DTSTART:20191005T163000
END:DAYLIGHT
END:VTIMEZONE
BEGIN:VEVENT
DTSTART;TZID=Australia/Adelaide:20190418T183000
DTEND;TZID=Australia/Adelaide:20190421T210000
DTSTAMP:20260425T200456
CREATED:20190306T130459Z
LAST-MODIFIED:20190418T031148Z
UID:1892-1555612200-1555880400@nlcc.com.au
SUMMARY:Easter Alive Program 2019
DESCRIPTION:“Come let us sing for joy to the Lord; Let us shout aloud to the Rock of our Salvation” Psalm 95:1 \nCome celebrate Easter with us at Klemzig! From bouncy castle to boutique electives\, there will be something fun and interesting for everyone. All these activities will be centered around the backdrop of our celebration of the Risen Christ. \nYes\, you can look forward to a most enjoyable time getting to make new friends whilst strengthening existing relationships. It promises to be a weekend of fun\, friendship and fellowship around times of delicious food and uplifting servings of messages of hope and faith. Come\, and expect something new and exciting. Come and expect to go away blessed! \nLovingly\,\nChris & Catherine Liew\nSenior Pastors\nNew Life Christian Community \nRegistration for Easter Alive is now open! For more information and for registration please visit http://easteralive.nlcc.com.au
URL:https://nlcc.com.au/event/easter-alive-program-2019/
LOCATION:New Life Christian Community\, 33-37 O.G. Road\, Klemzig\, South Australia\, 5087\, Australia
CATEGORIES:Easter
ORGANIZER;CN="New Life Christian Community":MAILTO:office@nlcc.com.au
END:VEVENT
END:VCALENDAR