BEGIN:VCALENDAR
VERSION:2.0
PRODID:-//NLCC - ECPv6.15.0.1//NONSGML v1.0//EN
CALSCALE:GREGORIAN
METHOD:PUBLISH
X-WR-CALNAME:NLCC
X-ORIGINAL-URL:https://nlcc.com.au
X-WR-CALDESC:Events for NLCC
REFRESH-INTERVAL;VALUE=DURATION:PT1H
X-Robots-Tag:noindex
X-PUBLISHED-TTL:PT1H
BEGIN:VTIMEZONE
TZID:Australia/Adelaide
BEGIN:STANDARD
TZOFFSETFROM:+1030
TZOFFSETTO:+0930
TZNAME:ACST
DTSTART:20200404T163000
END:STANDARD
BEGIN:DAYLIGHT
TZOFFSETFROM:+0930
TZOFFSETTO:+1030
TZNAME:ACDT
DTSTART:20201003T163000
END:DAYLIGHT
END:VTIMEZONE
BEGIN:VEVENT
DTSTART;TZID=Australia/Adelaide:20200104T190000
DTEND;TZID=Australia/Adelaide:20200104T220000
DTSTAMP:20260425T045146
CREATED:20191231T095308Z
LAST-MODIFIED:20191231T095308Z
UID:2285-1578164400-1578175200@nlcc.com.au
SUMMARY:K-Pop Hip-Hop Dance Fundraiser Concert In English
DESCRIPTION:NLCC are hosting a K-Pop Hip Hop dance mission fundraising concert featuring the Mentor Crew! This special event will be running over two nights. All are welcome to come and be blessed by this performance. \nEvent Details: \nSaturday 4th January 2020 at 7pm (In English) \nVenue: New Life Christian Community\, 33-37 O.G. Road\, Klemzig\, SA
URL:https://nlcc.com.au/event/k-pop-hip-hop-dance-fundraiser-concert-in-english/
LOCATION:New Life Christian Community\, 33-37 O.G. Road\, Klemzig\, South Australia\, 5087\, Australia
CATEGORIES:Special Event
ATTACH;FMTTYPE=image/jpeg:https://nlcc.com.au/wp-content/uploads/2019/11/K-Pop-Hip-Hop-Dance-2019-Small.jpg
ORGANIZER;CN="New Life Christian Community":MAILTO:office@nlcc.com.au
END:VEVENT
END:VCALENDAR