BEGIN:VCALENDAR
VERSION:2.0
PRODID:-//NLCC - ECPv6.15.0.1//NONSGML v1.0//EN
CALSCALE:GREGORIAN
METHOD:PUBLISH
X-ORIGINAL-URL:https://nlcc.com.au
X-WR-CALDESC:Events for NLCC
REFRESH-INTERVAL;VALUE=DURATION:PT1H
X-Robots-Tag:noindex
X-PUBLISHED-TTL:PT1H
BEGIN:VTIMEZONE
TZID:Australia/Adelaide
BEGIN:STANDARD
TZOFFSETFROM:+1030
TZOFFSETTO:+0930
TZNAME:ACST
DTSTART:20180331T163000
END:STANDARD
BEGIN:DAYLIGHT
TZOFFSETFROM:+0930
TZOFFSETTO:+1030
TZNAME:ACDT
DTSTART:20181006T163000
END:DAYLIGHT
END:VTIMEZONE
BEGIN:VEVENT
DTSTART;VALUE=DATE:20180928
DTEND;VALUE=DATE:20181002
DTSTAMP:20260426T015929
CREATED:20180805T132910Z
LAST-MODIFIED:20180906T115522Z
UID:1031-1538092800-1538438399@nlcc.com.au
SUMMARY:Spiritual Encounter 2018
DESCRIPTION:“Spiritual Encounter (modified)” will be held over the Labour Day long weekend from Friday 28th September 2018 to Monday 1st October 2018. \nRegistration is now open!  \nTo register\, please collect a registration form from the information table then fill it in and return to the office staff with your payment. \nRegistration Fee: $10 per person \n\nPlease include the money with the registration form to be handed to the office staff.\nRegistration closes on Friday 21st September 2018.\n\nKindly Note: \n\nRegistrants need to attend all the sessions.\nLunch & Dinner will be provided on Saturday 29th September 2018 and is included in the registration fee.\nEarly registration greatly helps us in the catering preparation\, and is much appreciated.\n\nPersonal Preparation: \n\nPrepare your heart in the weeks leading up to the Spiritual Encounter Weekend.\nAim to dedicate the whole weekend to seek God and meet with God.\nCommit yourself to a personal encounter with the Lord Jesus Christ and look forward to a spiritual breakthrough in your life.\nHelp build a positive atmosphere in your Life Group for the Spiritual Encounter Weekend.\n\n  \n 
URL:https://nlcc.com.au/event/spiritual-encounter-2018/
LOCATION:New Life Christian Community\, 33-37 O.G. Road\, Klemzig\, South Australia\, 5087\, Australia
CATEGORIES:Spiritual Encounter
ORGANIZER;CN="New Life Christian Community":MAILTO:office@nlcc.com.au
END:VEVENT
BEGIN:VEVENT
DTSTART;TZID=Australia/Adelaide:20181016T190000
DTEND;TZID=Australia/Adelaide:20181016T203000
DTSTAMP:20260426T015929
CREATED:20180930T063744Z
LAST-MODIFIED:20180930T063744Z
UID:1527-1539716400-1539721800@nlcc.com.au
SUMMARY:Graham Tour Prayer Rally
DESCRIPTION:The Billy Graham Evangelistic Association will be hosting a Prayer Rally as part of the Graham Tour. \nAll are welcome to participate in the Prayer Rally to be held at the Influences Church on 57 Darley Road\, Paradise at 7:00 pm to 8:30 pm on 16th October 2018.
URL:https://nlcc.com.au/event/graham-tour-prayer-rally/
LOCATION:Influencers Church Paradise Campus\, 57 Darley Road\, Paradise\, South Australia\, 5075\, Australia
CATEGORIES:Special Event
ORGANIZER;CN="Billy Graham Evangelistic Association":MAILTO:info@billygraham.org.au
END:VEVENT
BEGIN:VEVENT
DTSTART;TZID=Australia/Adelaide:20181021T100000
DTEND;TZID=Australia/Adelaide:20181021T120000
DTSTAMP:20260426T015929
CREATED:20181011T113417Z
LAST-MODIFIED:20181011T113417Z
UID:1545-1540116000-1540123200@nlcc.com.au
SUMMARY:Baptismal Service 21st October 2018
DESCRIPTION:Baptismal Service October 21st\, 2018 \nAn opportunity to publicly confess your faith in Christ through the waters of baptism\, if you have not already done so. \n十月二十一日 洗礼崇拜 \n一个很好的机会来公众的承认你在耶稣中的信心通过接受水的受洗，如果你还没有受洗的话，可以抓住这个机会。
URL:https://nlcc.com.au/event/baptismal-service-21st-october-2018/
LOCATION:New Life Christian Community\, 33-37 O.G. Road\, Klemzig\, South Australia\, 5087\, Australia
CATEGORIES:Baptism Service
ATTACH;FMTTYPE=image/jpeg:https://nlcc.com.au/wp-content/uploads/2015/02/Jesus-Baptism.jpg
ORGANIZER;CN="New Life Christian Community":MAILTO:office@nlcc.com.au
END:VEVENT
BEGIN:VEVENT
DTSTART;TZID=Australia/Adelaide:20181028T130000
DTEND;TZID=Australia/Adelaide:20181028T140000
DTSTAMP:20260426T015929
CREATED:20181011T113834Z
LAST-MODIFIED:20181011T113834Z
UID:1548-1540731600-1540735200@nlcc.com.au
SUMMARY:Annual General Meeting 2018
DESCRIPTION:Annual General Meeting 2018: October 28th\, 2018 \nThe AGM for this year will be held at 1.00pm after the Fellowship Lunch.  All members of NLCC are encouraged to attend. \n十月二十八日 年度大会 \n年度大会将于下午一点开始（午餐 结束后）， 鼓励所有会员来参加
URL:https://nlcc.com.au/event/annual-general-meeting-2018/
LOCATION:New Life Christian Community\, 33-37 O.G. Road\, Klemzig\, South Australia\, 5087\, Australia
CATEGORIES:Annual General Meeting
ORGANIZER;CN="New Life Christian Community":MAILTO:office@nlcc.com.au
END:VEVENT
END:VCALENDAR