BEGIN:VCALENDAR
VERSION:2.0
PRODID:-//NLCC - ECPv6.15.0.1//NONSGML v1.0//EN
CALSCALE:GREGORIAN
METHOD:PUBLISH
X-ORIGINAL-URL:https://nlcc.com.au
X-WR-CALDESC:Events for NLCC
REFRESH-INTERVAL;VALUE=DURATION:PT1H
X-Robots-Tag:noindex
X-PUBLISHED-TTL:PT1H
BEGIN:VTIMEZONE
TZID:Australia/Adelaide
BEGIN:STANDARD
TZOFFSETFROM:+1030
TZOFFSETTO:+0930
TZNAME:ACST
DTSTART:20190406T163000
END:STANDARD
BEGIN:DAYLIGHT
TZOFFSETFROM:+0930
TZOFFSETTO:+1030
TZNAME:ACDT
DTSTART:20191005T163000
END:DAYLIGHT
END:VTIMEZONE
BEGIN:VEVENT
DTSTART;TZID=Australia/Adelaide:20190208T183000
DTEND;TZID=Australia/Adelaide:20190208T213000
DTSTAMP:20260425T200808
CREATED:20190116T125759Z
LAST-MODIFIED:20190116T125759Z
UID:1734-1549650600-1549661400@nlcc.com.au
SUMMARY:Lunar New Year Celebration 2019
DESCRIPTION:NLCC will be hosting our annual Lunar New Year Celebration on Friday nigh 8th February at 6:30pm. Let us come and celebrate Lunar New Year with food and performances! Feel free to invite your friends and family.
URL:https://nlcc.com.au/event/lunar-new-year-celebration-2019/
LOCATION:New Life Christian Community\, 33-37 O.G. Road\, Klemzig\, South Australia\, 5087\, Australia
CATEGORIES:Lunar New Year
ATTACH;FMTTYPE=image/jpeg:https://nlcc.com.au/wp-content/uploads/2019/01/NLCC-Lunar-New-Year-2019.jpg
ORGANIZER;CN="New Life Christian Community":MAILTO:office@nlcc.com.au
END:VEVENT
END:VCALENDAR