BEGIN:VCALENDAR
VERSION:2.0
PRODID:-//NLCC - ECPv6.15.0.1//NONSGML v1.0//EN
CALSCALE:GREGORIAN
METHOD:PUBLISH
X-WR-CALNAME:NLCC
X-ORIGINAL-URL:https://nlcc.com.au
X-WR-CALDESC:Events for NLCC
REFRESH-INTERVAL;VALUE=DURATION:PT1H
X-Robots-Tag:noindex
X-PUBLISHED-TTL:PT1H
BEGIN:VTIMEZONE
TZID:Australia/Adelaide
BEGIN:STANDARD
TZOFFSETFROM:+1030
TZOFFSETTO:+0930
TZNAME:ACST
DTSTART:20190406T163000
END:STANDARD
BEGIN:DAYLIGHT
TZOFFSETFROM:+0930
TZOFFSETTO:+1030
TZNAME:ACDT
DTSTART:20191005T163000
END:DAYLIGHT
END:VTIMEZONE
BEGIN:VEVENT
DTSTART;TZID=Australia/Adelaide:20190309T100000
DTEND;TZID=Australia/Adelaide:20190311T170000
DTSTAMP:20260425T200457
CREATED:20190306T123249Z
LAST-MODIFIED:20190306T130928Z
UID:1882-1552125600-1552323600@nlcc.com.au
SUMMARY:Spiritual Encounter 2019 (Chinese)
DESCRIPTION:中文遇见神营会\n三月九号 (周六) : 早上九点到晚上九点\n三月十一号 (周一) : 早上九点到下午三点 \n将自己委身来与主耶稣基督有个亲身的经历\,\n并期待在你的生命中有属灵上的突破\n*详情请参考报名表格
URL:https://nlcc.com.au/event/spiritual-encounter-2019-chinese/
LOCATION:New Life Christian Community\, 33-37 O.G. Road\, Klemzig\, South Australia\, 5087\, Australia
CATEGORIES:Spiritual Encounter
ORGANIZER;CN="New Life Christian Community":MAILTO:office@nlcc.com.au
END:VEVENT
BEGIN:VEVENT
DTSTART;TZID=Australia/Adelaide:20190313T190000
DTEND;TZID=Australia/Adelaide:20190313T210000
DTSTAMP:20260425T200457
CREATED:20190306T124720Z
LAST-MODIFIED:20190306T125256Z
UID:1886-1552503600-1552510800@nlcc.com.au
SUMMARY:United Bible Society Public Meeting - The Church In China
DESCRIPTION:Q&A with Kua Wee Seng \nJoin Bible Society for an evening with international guest and director of the United Bible Societies China Partnership\, Kua Wee Seng. Together we’ll explore the answers to growing questions around the Christian Church in China. \nRSVP here: https://qaweesengsa.eventbrite.com.au
URL:https://nlcc.com.au/event/united-bible-society-public-meeting-the-church-in-china/
LOCATION:New Life Christian Community\, 33-37 O.G. Road\, Klemzig\, South Australia\, 5087\, Australia
CATEGORIES:Guest Speaker
ORGANIZER;CN="Bible Society":MAILTO:bibles@biblesociety.org.au
END:VEVENT
BEGIN:VEVENT
DTSTART;TZID=Australia/Adelaide:20190317T100000
DTEND;TZID=Australia/Adelaide:20190317T233000
DTSTAMP:20260425T200457
CREATED:20190306T123921Z
LAST-MODIFIED:20190306T123921Z
UID:1884-1552816800-1552865400@nlcc.com.au
SUMMARY:Baptismal Service 17th March 2019
DESCRIPTION:This is our first baptismal service for 2019. If you believe that Jesus Christ is your Saviour and Lord\, then make your confession publicly\, in accordance to Scriptures (Matthew 10:32; Luke 12:8). \n“Whoever believes and is baptised will be saved!” (Mark 16:16a) \nPlease see the Pastors or your life group leader for more information.
URL:https://nlcc.com.au/event/baptismal-service-17th-march-2019/
LOCATION:New Life Christian Community\, 33-37 O.G. Road\, Klemzig\, South Australia\, 5087\, Australia
CATEGORIES:Baptism Service
ATTACH;FMTTYPE=image/jpeg:https://nlcc.com.au/wp-content/uploads/2015/02/Jesus-Baptism.jpg
ORGANIZER;CN="New Life Christian Community":MAILTO:office@nlcc.com.au
END:VEVENT
END:VCALENDAR