BEGIN:VCALENDAR
VERSION:2.0
PRODID:-//NLCC - ECPv6.15.0.1//NONSGML v1.0//EN
CALSCALE:GREGORIAN
METHOD:PUBLISH
X-ORIGINAL-URL:https://nlcc.com.au
X-WR-CALDESC:Events for NLCC
REFRESH-INTERVAL;VALUE=DURATION:PT1H
X-Robots-Tag:noindex
X-PUBLISHED-TTL:PT1H
BEGIN:VTIMEZONE
TZID:Australia/Adelaide
BEGIN:STANDARD
TZOFFSETFROM:+1030
TZOFFSETTO:+0930
TZNAME:ACST
DTSTART:20190406T163000
END:STANDARD
BEGIN:DAYLIGHT
TZOFFSETFROM:+0930
TZOFFSETTO:+1030
TZNAME:ACDT
DTSTART:20191005T163000
END:DAYLIGHT
END:VTIMEZONE
BEGIN:VEVENT
DTSTART;TZID=Australia/Adelaide:20191207T110000
DTEND;TZID=Australia/Adelaide:20191207T140000
DTSTAMP:20260425T045250
CREATED:20191107T121924Z
LAST-MODIFIED:20191107T122252Z
UID:2189-1575716400-1575727200@nlcc.com.au
SUMMARY:NLCC Annual Christmas Picnic 2019
DESCRIPTION:NLCC Annual Christmas Picnic\, December 7th\, 2019 \nOpportunity to reach out to your friends and family to share life in Jesus! It is from 11.00am – 2.00pm at the Klemzig Recreation Reserve Playground. \nNLCC 年度圣诞节野餐 \n2019年12月7日 \nKlemzig Recreation Reserve Playground \n很好的机会来邀请你的朋友和家人来在耶稣中分享生命
URL:https://nlcc.com.au/event/nlcc-annual-christmas-picnic-2019/
LOCATION:Klemzig Recreation Reserve Playground\, O G Rd & North East Road\, Klemzig\, South Australia\, 5087\, Australia
CATEGORIES:Christmas
ORGANIZER;CN="New Life Christian Community":MAILTO:office@nlcc.com.au
END:VEVENT
BEGIN:VEVENT
DTSTART;TZID=Australia/Adelaide:20191224T183000
DTEND;TZID=Australia/Adelaide:20191224T213000
DTSTAMP:20260425T045250
CREATED:20191107T122353Z
LAST-MODIFIED:20191118T113725Z
UID:2191-1577212200-1577223000@nlcc.com.au
SUMMARY:The Light Has Come Christmas NLCC Production 2019
DESCRIPTION:The Light Has Come Christmas \nA Musical Production Presented By NLCC \nDate: Tuesday 24th December\, 2019 \nTime: 6:30pm dinner and 8:30pm presentation \nWe are expecting Christmas 2019 to be an uplifting and inspiring season\, filled with meaning and purpose as we celebrate the birth of Jesus\, the Christ of Christmas. \nThis year’s Christmas production\, “The Light Has Come” will follow our big\, annual dinner and shares a message of hope and light that seeks to touch every heart with the love of God. \nInvite your family and friends along to what is going to be the most wonderful time of the year!
URL:https://nlcc.com.au/event/the-light-has-come-christmas-nlcc-production-2019/
LOCATION:New Life Christian Community\, 33-37 O.G. Road\, Klemzig\, South Australia\, 5087\, Australia
CATEGORIES:Christmas
ATTACH;FMTTYPE=image/jpeg:https://nlcc.com.au/wp-content/uploads/2019/11/NLCC-Christmas-Production-2019-Small.jpg
ORGANIZER;CN="New Life Christian Community":MAILTO:office@nlcc.com.au
END:VEVENT
END:VCALENDAR