BEGIN:VCALENDAR
VERSION:2.0
PRODID:-//NLCC - ECPv6.15.0.1//NONSGML v1.0//EN
CALSCALE:GREGORIAN
METHOD:PUBLISH
X-WR-CALNAME:NLCC
X-ORIGINAL-URL:https://nlcc.com.au
X-WR-CALDESC:Events for NLCC
REFRESH-INTERVAL;VALUE=DURATION:PT1H
X-Robots-Tag:noindex
X-PUBLISHED-TTL:PT1H
BEGIN:VTIMEZONE
TZID:Australia/Adelaide
BEGIN:STANDARD
TZOFFSETFROM:+1030
TZOFFSETTO:+0930
TZNAME:ACST
DTSTART:20200404T163000
END:STANDARD
BEGIN:DAYLIGHT
TZOFFSETFROM:+0930
TZOFFSETTO:+1030
TZNAME:ACDT
DTSTART:20201003T163000
END:DAYLIGHT
END:VTIMEZONE
BEGIN:VEVENT
DTSTART;TZID=Australia/Adelaide:20200207T180000
DTEND;TZID=Australia/Adelaide:20200207T210000
DTSTAMP:20260425T045220
CREATED:20200114T120605Z
LAST-MODIFIED:20200114T120625Z
UID:2294-1581098400-1581109200@nlcc.com.au
SUMMARY:Lunar New Year Celebration 2020
DESCRIPTION:NLCC will be hosting our annual Lunar New Year Celebration on Friday night 7th February 2020 at 6:00pm. Let us come and celebrate Lunar New Year together with delicious food and wonderful performances! Feel free to invite your friends and family along. Tickets are required for free entry to attend the event. Please ensure you collect these free tickets from your life group leader for distribution to friends and family. Thank you. We look forward to seeing you there!
URL:https://nlcc.com.au/event/lunar-new-year-celebration-2020/
LOCATION:New Life Christian Community\, 33-37 O.G. Road\, Klemzig\, South Australia\, 5087\, Australia
CATEGORIES:Lunar New Year
ORGANIZER;CN="New Life Christian Community":MAILTO:office@nlcc.com.au
END:VEVENT
BEGIN:VEVENT
DTSTART;TZID=Australia/Adelaide:20200223T100000
DTEND;TZID=Australia/Adelaide:20200223T113000
DTSTAMP:20260425T045220
CREATED:20200114T115458Z
LAST-MODIFIED:20200114T115458Z
UID:2296-1582452000-1582457400@nlcc.com.au
SUMMARY:Baptismal Service 23rd February 2020
DESCRIPTION:If you believe that Jesus Christ is your Saviour and Lord\, then make your confession publicly\, in accordance to Scriptures (Matthew 10:32; Luke 12:8). \n“Whoever believes and is baptised will be saved!” (Mark 16:16a) \nPlease see the Pastors or your life group leader for more information.
URL:https://nlcc.com.au/event/baptismal-service-23rd-february-2020/
LOCATION:New Life Christian Community\, 33-37 O.G. Road\, Klemzig\, South Australia\, 5087\, Australia
CATEGORIES:Baptism Service
ATTACH;FMTTYPE=image/jpeg:https://nlcc.com.au/wp-content/uploads/2015/02/Jesus-Baptism.jpg
ORGANIZER;CN="New Life Christian Community":MAILTO:office@nlcc.com.au
END:VEVENT
END:VCALENDAR